BEGIN:VCALENDAR
VERSION:2.0
PRODID:-//Austin Cares - ECPv6.15.1.1//NONSGML v1.0//EN
CALSCALE:GREGORIAN
METHOD:PUBLISH
X-WR-CALNAME:Austin Cares
X-ORIGINAL-URL:https://www.austin-cares.org
X-WR-CALDESC:Events for Austin Cares
REFRESH-INTERVAL;VALUE=DURATION:PT1H
X-Robots-Tag:noindex
X-PUBLISHED-TTL:PT1H
BEGIN:VTIMEZONE
TZID:America/Chicago
BEGIN:DAYLIGHT
TZOFFSETFROM:-0600
TZOFFSETTO:-0500
TZNAME:CDT
DTSTART:20150308T080000
END:DAYLIGHT
BEGIN:STANDARD
TZOFFSETFROM:-0500
TZOFFSETTO:-0600
TZNAME:CST
DTSTART:20151101T070000
END:STANDARD
BEGIN:DAYLIGHT
TZOFFSETFROM:-0600
TZOFFSETTO:-0500
TZNAME:CDT
DTSTART:20160313T080000
END:DAYLIGHT
BEGIN:STANDARD
TZOFFSETFROM:-0500
TZOFFSETTO:-0600
TZNAME:CST
DTSTART:20161106T070000
END:STANDARD
END:VTIMEZONE
BEGIN:VEVENT
DTSTART;TZID=America/Chicago:20160301T080000
DTEND;TZID=America/Chicago:20160301T170000
DTSTAMP:20260423T152826
CREATED:20150916T194835Z
LAST-MODIFIED:20151206T232214Z
UID:447-1456819200-1456851600@www.austin-cares.org
SUMMARY:Tutoring
DESCRIPTION:Coming Soon…..
URL:https://www.austin-cares.org/event/guided-tours/
LOCATION:Austin
CATEGORIES:Tutoring
ATTACH;FMTTYPE=image/jpeg:https://www.austin-cares.org/wp-content/uploads/2015/09/Teaching-jobs.jpg
ORGANIZER;CN="Tutoring":MAILTO:tutoring@austin-cares.org
END:VEVENT
BEGIN:VEVENT
DTSTART;TZID=America/Chicago:20160207T110000
DTEND;TZID=America/Chicago:20160207T170000
DTSTAMP:20260423T152826
CREATED:20150916T191434Z
LAST-MODIFIED:20151206T232046Z
UID:440-1454842800-1454864400@www.austin-cares.org
SUMMARY:Clothing Drive
DESCRIPTION:Austin Cares clothing drive combined with your generosity will help low-income families\, individuals and our fellow Austin residents with their clothing needs. Please review these guidelines for donating clothing articles: \n\nClothing should be clean and free of stains\, holes and rips.\nClothing should be appropriate of season and free of odors\nClothing items are most useful if they are relatively current or classic style\nClothing appropriate for all ages is accepted\, but need the for clothing for children and teens is especially high\nIt would be appreciated if bulk donations could be sorted by sizes to help our volunteers
URL:https://www.austin-cares.org/event/bake-off-for-charity/
LOCATION:Austin
CATEGORIES:Clothing Drive
ATTACH;FMTTYPE=image/jpeg:https://www.austin-cares.org/wp-content/uploads/2015/09/clothing_drive.jpg
ORGANIZER;CN="Clothing Drive":MAILTO:clothingdrive@austin-cares.org
END:VEVENT
BEGIN:VEVENT
DTSTART;TZID=America/Chicago:20151121T100000
DTEND;TZID=America/Chicago:20151121T170000
DTSTAMP:20260423T152826
CREATED:20150916T193904Z
LAST-MODIFIED:20151206T231957Z
UID:445-1448100000-1448125200@www.austin-cares.org
SUMMARY:Food Drive
DESCRIPTION:The best way to support hunger-relief in our community is by making a financial donation to Austin Cares or volunteering to acquire and ship healthy\, nutritious food. Please make sure you follow some simple rules when collecting food: \n\nCollect only healthy\, non-perishable food items.\nDo not collect any homemade items.\nItems with intact\, unopened consumer or commercial packaging\nPlease keep personal care items separate from food items (i.e. mouthwash).\nNo glass\, please!  Glass items can chip and break easily in the barrels.
URL:https://www.austin-cares.org/event/food-drive/
LOCATION:Austin
CATEGORIES:Food
ATTACH;FMTTYPE=image/jpeg:https://www.austin-cares.org/wp-content/uploads/2015/09/Corporate-altruism-Oxymoron-or-get-real-solution_strict_xxl.jpg
ORGANIZER;CN="Food Drive":MAILTO:fooddrive@austin-cares.org
END:VEVENT
END:VCALENDAR