BEGIN:VCALENDAR
VERSION:2.0
PRODID:-//Austin Cares - ECPv6.15.1.1//NONSGML v1.0//EN
CALSCALE:GREGORIAN
METHOD:PUBLISH
X-ORIGINAL-URL:https://www.austin-cares.org
X-WR-CALDESC:Events for Austin Cares
REFRESH-INTERVAL;VALUE=DURATION:PT1H
X-Robots-Tag:noindex
X-PUBLISHED-TTL:PT1H
BEGIN:VTIMEZONE
TZID:America/Chicago
BEGIN:DAYLIGHT
TZOFFSETFROM:-0600
TZOFFSETTO:-0500
TZNAME:CDT
DTSTART:20160313T080000
END:DAYLIGHT
BEGIN:STANDARD
TZOFFSETFROM:-0500
TZOFFSETTO:-0600
TZNAME:CST
DTSTART:20161106T070000
END:STANDARD
END:VTIMEZONE
BEGIN:VEVENT
DTSTART;TZID=America/Chicago:20160207T110000
DTEND;TZID=America/Chicago:20160207T170000
DTSTAMP:20260423T202222
CREATED:20150916T191434Z
LAST-MODIFIED:20151206T232046Z
UID:440-1454842800-1454864400@www.austin-cares.org
SUMMARY:Clothing Drive
DESCRIPTION:Austin Cares clothing drive combined with your generosity will help low-income families\, individuals and our fellow Austin residents with their clothing needs. Please review these guidelines for donating clothing articles: \n\nClothing should be clean and free of stains\, holes and rips.\nClothing should be appropriate of season and free of odors\nClothing items are most useful if they are relatively current or classic style\nClothing appropriate for all ages is accepted\, but need the for clothing for children and teens is especially high\nIt would be appreciated if bulk donations could be sorted by sizes to help our volunteers
URL:https://www.austin-cares.org/event/bake-off-for-charity/
LOCATION:Austin
CATEGORIES:Clothing Drive
ATTACH;FMTTYPE=image/jpeg:https://www.austin-cares.org/wp-content/uploads/2015/09/clothing_drive.jpg
ORGANIZER;CN="Clothing Drive":MAILTO:clothingdrive@austin-cares.org
END:VEVENT
END:VCALENDAR